Package: MetaboSignal Version: 1.41.0 Command: /Library/Frameworks/R.framework/Resources/bin/R CMD build --keep-empty-dirs --no-resave-data MetaboSignal StartedAt: 2025-11-12 16:40:10 -0500 (Wed, 12 Nov 2025) EndedAt: 2025-11-12 16:41:08 -0500 (Wed, 12 Nov 2025) EllapsedTime: 58.7 seconds RetCode: 0 Status: OK PackageFile: MetaboSignal_1.41.0.tar.gz PackageFileSize: 2.089 MiB