Package: MetaboSignal Version: 1.41.0 Maintainer: Andrea Rodriguez-Martinez MaintainerEmail: andrea.rodriguez-martinez13 at imperial.ac.uk git_url: https://git.bioconductor.org/packages/MetaboSignal git_branch: devel git_last_commit: cbcf183 git_last_commit_date: 2025-10-29 10:34:11 -0500 (Wed, 29 Oct 2025)