Package: MetaboDynamics Version: 2.1.0 Command: /Library/Frameworks/R.framework/Resources/bin/R CMD INSTALL MetaboDynamics StartedAt: 2025-11-12 15:28:08 -0500 (Wed, 12 Nov 2025) EndedAt: 2025-11-12 15:29:26 -0500 (Wed, 12 Nov 2025) EllapsedTime: 77.5 seconds RetCode: 0 Status: OK