Package: MetaboDynamics Version: 2.1.0 Command: /Library/Frameworks/R.framework/Resources/bin/R CMD build --keep-empty-dirs --no-resave-data MetaboDynamics StartedAt: 2025-11-12 16:40:05 -0500 (Wed, 12 Nov 2025) EndedAt: 2025-11-12 16:42:34 -0500 (Wed, 12 Nov 2025) EllapsedTime: 149.8 seconds RetCode: 0 Status: OK PackageFile: MetaboDynamics_2.1.0.tar.gz PackageFileSize: 6.791 MiB