Package: MetaboDynamics Version: 2.1.0 Command: rm -rf MetaboDynamics.buildbin-libdir && mkdir MetaboDynamics.buildbin-libdir && /Users/biocbuild/BBS/utils/build-universal.sh MetaboDynamics_2.1.0.tar.gz /Library/Frameworks/R.framework/Resources/bin/R MetaboDynamics.buildbin-libdir StartedAt: 2025-11-12 21:02:11 -0500 (Wed, 12 Nov 2025) EndedAt: 2025-11-12 21:03:45 -0500 (Wed, 12 Nov 2025) EllapsedTime: 94.8 seconds RetCode: 0 Status: OK PackageFile: MetaboDynamics_2.1.0.tgz PackageFileSize: 7.897 MiB