Package: MetaboDynamics Version: 2.1.0 Maintainer: Katja Danielzik MaintainerEmail: katja.danielzik at uni-due.de git_url: https://git.bioconductor.org/packages/MetaboDynamics git_branch: devel git_last_commit: 6c0330e git_last_commit_date: 2025-10-29 11:34:11 -0500 (Wed, 29 Oct 2025)