Package: MetaboCoreUtils Version: 1.19.0 Command: /home/biocbuild/bbs-3.23-bioc/R/bin/R CMD INSTALL MetaboCoreUtils StartedAt: 2025-11-14 15:14:16 -0500 (Fri, 14 Nov 2025) EndedAt: 2025-11-14 15:14:22 -0500 (Fri, 14 Nov 2025) EllapsedTime: 5.9 seconds RetCode: 0 Status: OK