Package: MetaboCoreUtils Version: 1.19.0 Command: /Library/Frameworks/R.framework/Resources/bin/R CMD check --install=check:MetaboCoreUtils.install-out.txt --library=/Library/Frameworks/R.framework/Resources/library --no-vignettes --timings MetaboCoreUtils_1.19.0.tar.gz StartedAt: 2025-11-12 19:22:53 -0500 (Wed, 12 Nov 2025) EndedAt: 2025-11-12 19:23:23 -0500 (Wed, 12 Nov 2025) EllapsedTime: 30.5 seconds RetCode: 0 Status: OK CheckDir: MetaboCoreUtils.Rcheck Warnings: 0