Package: MetaboCoreUtils Version: 1.19.0 Command: rm -rf MetaboCoreUtils.buildbin-libdir && mkdir MetaboCoreUtils.buildbin-libdir && /Users/biocbuild/BBS/utils/build-universal.sh MetaboCoreUtils_1.19.0.tar.gz /Library/Frameworks/R.framework/Resources/bin/R MetaboCoreUtils.buildbin-libdir StartedAt: 2025-11-12 21:02:11 -0500 (Wed, 12 Nov 2025) EndedAt: 2025-11-12 21:02:15 -0500 (Wed, 12 Nov 2025) EllapsedTime: 4.1 seconds RetCode: 0 Status: OK PackageFile: MetaboCoreUtils_1.19.0.tgz PackageFileSize: 1.09 MiB