Back to Build/check report for BioC 3.23:   simplified   long
ABCDEFGHIJKL[M]NOPQRSTUVWXYZ

This page was generated on 2025-11-13 11:32 -0500 (Thu, 13 Nov 2025).

HostnameOSArch (*)R versionInstalled pkgs
kjohnson3macOS 13.7.7 Venturaarm64R Under development (unstable) (2025-11-04 r88984) -- "Unsuffered Consequences" 4013
Click on any hostname to see more info about the system (e.g. compilers)      (*) as reported by 'uname -p', except on Windows and Mac OS X

All results for package MetaboCoreUtils


To the developers/maintainers of the MetaboCoreUtils package:
- Allow up to 24 hours (and sometimes 48 hours) for your latest push to git@git.bioconductor.org:packages/MetaboCoreUtils.git to reflect on this report. See Troubleshooting Build Report for more information.
- Use the following Renviron settings to reproduce errors and warnings.
- If 'R CMD check' started to fail recently on the Linux builder(s) over a missing dependency, add the missing dependency to 'Suggests:' in your DESCRIPTION file. See Renviron.bioc for more information.

raw results

Package 1221/2325HostnameOS / ArchINSTALLBUILDCHECKBUILD BIN
MetaboCoreUtils 1.19.0  (landing page)
Johannes Rainer
Snapshot Date: 2025-11-12 13:40 -0500 (Wed, 12 Nov 2025)
git_url: https://git.bioconductor.org/packages/MetaboCoreUtils
git_branch: devel
git_last_commit: 540e625
git_last_commit_date: 2025-10-29 11:06:05 -0500 (Wed, 29 Oct 2025)
kjohnson3macOS 13.7.7 Ventura / arm64  OK    OK    OK    OK  NO, package depends on 'MsCoreUtils' which is only available as a source package that needs compilation



Results for Bioconductor software packages that depend directly on package MetaboCoreUtils

QUICK STATSOS / ArchINSTALLBUILDCHECKBUILD BIN
kjohnson3macOS 13.7.7 Ventura / arm64
013
031
0001
001
Package 1/4HostnameOS / ArchINSTALLBUILDCHECKBUILD BIN
CompoundDb 1.15.0  (landing page)
Johannes Rainer
git_last_commit: c48af8f
git_last_commit_date: 2025-10-29 11:14:42 -0500
kjohnson3macOS 13.7.7 Ventura / arm64  OK    OK    OK    OK  NO, package depends on 'MsCoreUtils' which is only available as a source package that needs compilation
Package 2/4HostnameOS / ArchINSTALLBUILDCHECKBUILD BIN
MetaboAnnotation 1.15.0  (landing page)
Johannes Rainer
git_last_commit: 0232707
git_last_commit_date: 2025-10-29 11:14:44 -0500
kjohnson3macOS 13.7.7 Ventura / arm64  OK    ERROR  skippedskipped
Package 3/4HostnameOS / ArchINSTALLBUILDCHECKBUILD BIN
Spectra 1.21.0  (landing page)
RforMassSpectrometry Package Maintainer
git_last_commit: 3a71e5d
git_last_commit_date: 2025-10-29 11:01:49 -0500
kjohnson3macOS 13.7.7 Ventura / arm64  OK    ERROR  skippedskipped
Package 4/4HostnameOS / ArchINSTALLBUILDCHECKBUILD BIN
xcms 4.9.0  (landing page)
Steffen Neumann
git_last_commit: 3321e90
git_last_commit_date: 2025-10-29 09:56:19 -0500
kjohnson3macOS 13.7.7 Ventura / arm64  ERROR    ERROR  skippedskipped