Package: MetaboAnnotation Version: 1.15.0 Command: /home/biocbuild/bbs-3.23-bioc/R/bin/R CMD INSTALL MetaboAnnotation StartedAt: 2025-11-13 15:36:21 -0500 (Thu, 13 Nov 2025) EndedAt: 2025-11-13 15:37:02 -0500 (Thu, 13 Nov 2025) EllapsedTime: 40.6 seconds RetCode: 0 Status: OK