Package: MetaboAnnotation Version: 1.15.0 Command: /home/biocbuild/bbs-3.23-bioc/R/bin/R CMD check --install=check:MetaboAnnotation.install-out.txt --library=/home/biocbuild/bbs-3.23-bioc/R/site-library --timings MetaboAnnotation_1.15.0.tar.gz StartedAt: 2025-11-15 01:10:53 -0500 (Sat, 15 Nov 2025) EndedAt: 2025-11-15 01:18:09 -0500 (Sat, 15 Nov 2025) EllapsedTime: 436.5 seconds RetCode: 0 Status: OK CheckDir: MetaboAnnotation.Rcheck Warnings: 0