Package: MetaboAnnotation Version: 1.15.0 Command: /home/biocbuild/bbs-3.23-bioc/R/bin/R CMD build --keep-empty-dirs --no-resave-data MetaboAnnotation StartedAt: 2025-11-13 18:30:26 -0500 (Thu, 13 Nov 2025) EndedAt: 2025-11-13 18:31:59 -0500 (Thu, 13 Nov 2025) EllapsedTime: 93.1 seconds RetCode: 0 Status: OK PackageFile: MetaboAnnotation_1.15.0.tar.gz PackageFileSize: 1.24 MiB