Package: MetaboAnnotation Version: 1.15.0 Command: /Library/Frameworks/R.framework/Resources/bin/R CMD INSTALL MetaboAnnotation StartedAt: 2025-11-12 15:36:14 -0500 (Wed, 12 Nov 2025) EndedAt: 2025-11-12 15:36:31 -0500 (Wed, 12 Nov 2025) EllapsedTime: 16.3 seconds RetCode: 0 Status: OK