Package: MetaboAnnotation Version: 1.15.0 Command: /Library/Frameworks/R.framework/Resources/bin/R CMD build --keep-empty-dirs --no-resave-data MetaboAnnotation StartedAt: 2025-11-12 16:39:57 -0500 (Wed, 12 Nov 2025) EndedAt: 2025-11-12 16:40:28 -0500 (Wed, 12 Nov 2025) EllapsedTime: 31.4 seconds RetCode: 1 Status: ERROR PackageFile: None PackageFileSize: NA