Package: MetaPhOR Version: 1.13.0 Command: /home/biocbuild/bbs-3.23-bioc/R/bin/R CMD INSTALL MetaPhOR StartedAt: 2025-11-11 15:51:57 -0500 (Tue, 11 Nov 2025) EndedAt: 2025-11-11 15:52:24 -0500 (Tue, 11 Nov 2025) EllapsedTime: 27.1 seconds RetCode: 0 Status: OK