Package: MetaPhOR Version: 1.13.0 Command: /home/biocbuild/bbs-3.23-bioc/R/bin/R CMD build --keep-empty-dirs --no-resave-data MetaPhOR StartedAt: 2025-11-14 18:31:46 -0500 (Fri, 14 Nov 2025) EndedAt: 2025-11-14 18:44:42 -0500 (Fri, 14 Nov 2025) EllapsedTime: 776.6 seconds RetCode: 0 Status: OK PackageFile: MetaPhOR_1.13.0.tar.gz PackageFileSize: 2.701 MiB