Package: MetaPhOR Version: 1.13.0 Command: /Library/Frameworks/R.framework/Resources/bin/R CMD INSTALL MetaPhOR StartedAt: 2025-11-12 15:42:42 -0500 (Wed, 12 Nov 2025) EndedAt: 2025-11-12 15:42:52 -0500 (Wed, 12 Nov 2025) EllapsedTime: 10.0 seconds RetCode: 0 Status: OK