Package: MetaPhOR Version: 1.13.0 Command: /Library/Frameworks/R.framework/Resources/bin/R CMD build --keep-empty-dirs --no-resave-data MetaPhOR StartedAt: 2025-11-13 16:56:21 -0500 (Thu, 13 Nov 2025) EndedAt: 2025-11-13 17:02:12 -0500 (Thu, 13 Nov 2025) EllapsedTime: 351.0 seconds RetCode: 0 Status: OK PackageFile: MetaPhOR_1.13.0.tar.gz PackageFileSize: 2.744 MiB