Package: MetaPhOR Version: 1.13.0 Maintainer: Emily Isenhart MaintainerEmail: emily.isenhart at roswellpark.org git_url: https://git.bioconductor.org/packages/MetaPhOR git_branch: devel git_last_commit: d88197a git_last_commit_date: 2025-10-29 11:19:21 -0500 (Wed, 29 Oct 2025)