Package: MetaNeighbor Version: 1.31.0 Command: /home/biocbuild/bbs-3.23-bioc/R/bin/R CMD INSTALL MetaNeighbor StartedAt: 2025-11-13 15:21:13 -0500 (Thu, 13 Nov 2025) EndedAt: 2025-11-13 15:21:16 -0500 (Thu, 13 Nov 2025) EllapsedTime: 3.2 seconds RetCode: 0 Status: OK