Package: MetaNeighbor Version: 1.31.0 Command: /home/biocbuild/bbs-3.23-bioc/R/bin/R CMD build --keep-empty-dirs --no-resave-data MetaNeighbor StartedAt: 2025-11-11 18:35:36 -0500 (Tue, 11 Nov 2025) EndedAt: 2025-11-11 18:36:08 -0500 (Tue, 11 Nov 2025) EllapsedTime: 32.0 seconds RetCode: 0 Status: OK PackageFile: MetaNeighbor_1.31.0.tar.gz PackageFileSize: 3.195 MiB