Package: MetaNeighbor Version: 1.31.0 Command: /Library/Frameworks/R.framework/Resources/bin/R CMD INSTALL MetaNeighbor StartedAt: 2025-11-14 15:14:17 -0500 (Fri, 14 Nov 2025) EndedAt: 2025-11-14 15:14:19 -0500 (Fri, 14 Nov 2025) EllapsedTime: 2.1 seconds RetCode: 0 Status: OK