Package: MetaNeighbor Version: 1.31.0 Command: /Library/Frameworks/R.framework/Resources/bin/R CMD build --keep-empty-dirs --no-resave-data MetaNeighbor StartedAt: 2025-11-14 16:53:15 -0500 (Fri, 14 Nov 2025) EndedAt: 2025-11-14 16:53:32 -0500 (Fri, 14 Nov 2025) EllapsedTime: 17.2 seconds RetCode: 0 Status: OK PackageFile: MetaNeighbor_1.31.0.tar.gz PackageFileSize: 3.194 MiB