Package: MetaNeighbor Version: 1.31.0 Command: rm -rf MetaNeighbor.buildbin-libdir && mkdir MetaNeighbor.buildbin-libdir && /Users/biocbuild/BBS/utils/build-universal.sh MetaNeighbor_1.31.0.tar.gz /Library/Frameworks/R.framework/Resources/bin/R MetaNeighbor.buildbin-libdir StartedAt: 2025-11-13 23:44:38 -0500 (Thu, 13 Nov 2025) EndedAt: 2025-11-13 23:44:41 -0500 (Thu, 13 Nov 2025) EllapsedTime: 3.1 seconds RetCode: 0 Status: OK PackageFile: MetaNeighbor_1.31.0.tgz PackageFileSize: 4.171 MiB