Package: MetaNeighbor Version: 1.31.0 Maintainer: Stephan Fischer MaintainerEmail: fischer at cshl.edu git_url: https://git.bioconductor.org/packages/MetaNeighbor git_branch: devel git_last_commit: 29fdbe5 git_last_commit_date: 2025-10-29 10:42:30 -0500 (Wed, 29 Oct 2025)