Package: MetaDICT Version: 1.1.0 Command: /home/biocbuild/bbs-3.23-bioc/R/bin/R CMD INSTALL MetaDICT StartedAt: 2025-11-13 15:09:36 -0500 (Thu, 13 Nov 2025) EndedAt: 2025-11-13 15:09:45 -0500 (Thu, 13 Nov 2025) EllapsedTime: 9.4 seconds RetCode: 0 Status: OK