Package: MetaDICT Version: 1.1.0 Command: /home/biocbuild/bbs-3.23-bioc/R/bin/R CMD build --keep-empty-dirs --no-resave-data MetaDICT StartedAt: 2025-11-13 18:31:06 -0500 (Thu, 13 Nov 2025) EndedAt: 2025-11-13 18:38:19 -0500 (Thu, 13 Nov 2025) EllapsedTime: 433.4 seconds RetCode: 0 Status: OK PackageFile: MetaDICT_1.1.0.tar.gz PackageFileSize: 2.143 MiB