Package: MetaDICT Version: 1.1.0 Command: /Library/Frameworks/R.framework/Resources/bin/R CMD build --keep-empty-dirs --no-resave-data MetaDICT StartedAt: 2025-11-13 16:56:05 -0500 (Thu, 13 Nov 2025) EndedAt: 2025-11-13 16:57:33 -0500 (Thu, 13 Nov 2025) EllapsedTime: 88.0 seconds RetCode: 0 Status: OK PackageFile: MetaDICT_1.1.0.tar.gz PackageFileSize: 2.211 MiB