Package: MetaDICT Version: 1.1.0 Command: rm -rf MetaDICT.buildbin-libdir && mkdir MetaDICT.buildbin-libdir && /Users/biocbuild/BBS/utils/build-universal.sh MetaDICT_1.1.0.tar.gz /Library/Frameworks/R.framework/Resources/bin/R MetaDICT.buildbin-libdir StartedAt: 2025-11-13 23:44:36 -0500 (Thu, 13 Nov 2025) EndedAt: 2025-11-13 23:44:42 -0500 (Thu, 13 Nov 2025) EllapsedTime: 6.2 seconds RetCode: 0 Status: OK PackageFile: MetaDICT_1.1.0.tgz PackageFileSize: 2.278 MiB