Package: MetaDICT Version: 1.1.0 Maintainer: Bo Yuan MaintainerEmail: boyuan5 at illinois.edu git_url: https://git.bioconductor.org/packages/MetaDICT git_branch: devel git_last_commit: b0ced9b git_last_commit_date: 2025-10-29 11:37:46 -0500 (Wed, 29 Oct 2025)