Package: MetaCyto Version: 1.33.0 Command: /Library/Frameworks/R.framework/Resources/bin/R CMD build --keep-empty-dirs --no-resave-data MetaCyto StartedAt: 2025-11-13 16:56:03 -0500 (Thu, 13 Nov 2025) EndedAt: 2025-11-13 16:58:04 -0500 (Thu, 13 Nov 2025) EllapsedTime: 120.4 seconds RetCode: 0 Status: OK PackageFile: MetaCyto_1.33.0.tar.gz PackageFileSize: 1.024 MiB