Package: MetaCyto Version: 1.33.0 Command: rm -rf MetaCyto.buildbin-libdir && mkdir MetaCyto.buildbin-libdir && /Users/biocbuild/BBS/utils/build-universal.sh MetaCyto_1.33.0.tar.gz /Library/Frameworks/R.framework/Resources/bin/R MetaCyto.buildbin-libdir StartedAt: 2025-11-14 23:39:43 -0500 (Fri, 14 Nov 2025) EndedAt: 2025-11-14 23:39:52 -0500 (Fri, 14 Nov 2025) EllapsedTime: 8.3 seconds RetCode: 0 Status: OK PackageFile: MetaCyto_1.33.0.tgz PackageFileSize: 1.107 MiB