Package: MetaCyto Version: 1.33.0 Maintainer: Zicheng Hu MaintainerEmail: zicheng.hu at ucsf.edu git_url: https://git.bioconductor.org/packages/MetaCyto git_branch: devel git_last_commit: 5669afb git_last_commit_date: 2025-10-29 10:42:00 -0500 (Wed, 29 Oct 2025)