Package: MetNet Version: 1.29.0 Command: /home/biocbuild/bbs-3.23-bioc/R/bin/R CMD INSTALL MetNet StartedAt: 2025-11-11 15:36:28 -0500 (Tue, 11 Nov 2025) EndedAt: 2025-11-11 15:36:55 -0500 (Tue, 11 Nov 2025) EllapsedTime: 27.0 seconds RetCode: 0 Status: OK