Package: MetNet Version: 1.29.0 Command: /Library/Frameworks/R.framework/Resources/bin/R CMD INSTALL MetNet StartedAt: 2025-11-12 15:34:54 -0500 (Wed, 12 Nov 2025) EndedAt: 2025-11-12 15:35:05 -0500 (Wed, 12 Nov 2025) EllapsedTime: 11.3 seconds RetCode: 0 Status: OK