Package: MetNet Version: 1.29.0 Command: /Library/Frameworks/R.framework/Resources/bin/R CMD build --keep-empty-dirs --no-resave-data MetNet StartedAt: 2025-11-12 16:41:43 -0500 (Wed, 12 Nov 2025) EndedAt: 2025-11-12 16:42:03 -0500 (Wed, 12 Nov 2025) EllapsedTime: 20.2 seconds RetCode: 0 Status: OK PackageFile: MetNet_1.29.0.tar.gz PackageFileSize: 4.1 MiB