Package: MetNet Version: 1.29.0 Command: rm -rf MetNet.buildbin-libdir && mkdir MetNet.buildbin-libdir && /Users/biocbuild/BBS/utils/build-universal.sh MetNet_1.29.0.tar.gz /Library/Frameworks/R.framework/Resources/bin/R MetNet.buildbin-libdir StartedAt: 2025-11-12 21:02:35 -0500 (Wed, 12 Nov 2025) EndedAt: 2025-11-12 21:02:49 -0500 (Wed, 12 Nov 2025) EllapsedTime: 14.2 seconds RetCode: 0 Status: OK PackageFile: MetNet_1.29.0.tgz PackageFileSize: 4.376 MiB