Package: MetNet Version: 1.29.0 Maintainer: Thomas Naake MaintainerEmail: thomasnaake at googlemail.com git_url: https://git.bioconductor.org/packages/MetNet git_branch: devel git_last_commit: e4fd4ac git_last_commit_date: 2025-10-29 10:47:00 -0500 (Wed, 29 Oct 2025)