Package: MetMashR Version: 1.5.0 Command: /home/biocbuild/bbs-3.23-bioc/R/bin/R CMD INSTALL MetMashR StartedAt: 2025-11-16 15:32:46 -0500 (Sun, 16 Nov 2025) EndedAt: 2025-11-16 15:33:18 -0500 (Sun, 16 Nov 2025) EllapsedTime: 31.7 seconds RetCode: 0 Status: OK