Package: MetMashR Version: 1.5.0 Command: /home/biocbuild/bbs-3.23-bioc/R/bin/R CMD build --keep-empty-dirs --no-resave-data MetMashR StartedAt: 2025-11-17 18:44:37 -0500 (Mon, 17 Nov 2025) EndedAt: 2025-11-17 18:49:13 -0500 (Mon, 17 Nov 2025) EllapsedTime: 275.2 seconds RetCode: 0 Status: OK PackageFile: MetMashR_1.5.0.tar.gz PackageFileSize: 6.063 MiB