Package: MetMashR Version: 1.5.0 Command: /Library/Frameworks/R.framework/Resources/bin/R CMD INSTALL MetMashR StartedAt: 2025-11-13 15:18:44 -0500 (Thu, 13 Nov 2025) EndedAt: 2025-11-13 15:18:56 -0500 (Thu, 13 Nov 2025) EllapsedTime: 12.1 seconds RetCode: 0 Status: OK