Package: MetMashR Version: 1.5.0 Command: rm -rf MetMashR.buildbin-libdir && mkdir MetMashR.buildbin-libdir && /Users/biocbuild/BBS/utils/build-universal.sh MetMashR_1.5.0.tar.gz /Library/Frameworks/R.framework/Resources/bin/R MetMashR.buildbin-libdir StartedAt: 2025-11-12 21:02:35 -0500 (Wed, 12 Nov 2025) EndedAt: 2025-11-12 21:02:52 -0500 (Wed, 12 Nov 2025) EllapsedTime: 17.3 seconds RetCode: 0 Status: OK PackageFile: MetMashR_1.5.0.tgz PackageFileSize: 6.912 MiB