Package: MetCirc Version: 1.41.0 Command: /Library/Frameworks/R.framework/Resources/bin/R CMD INSTALL MetCirc StartedAt: 2025-11-12 15:23:06 -0500 (Wed, 12 Nov 2025) EndedAt: 2025-11-12 15:23:13 -0500 (Wed, 12 Nov 2025) EllapsedTime: 6.9 seconds RetCode: 0 Status: OK