Package: MetCirc Version: 1.41.0 Command: /Library/Frameworks/R.framework/Resources/bin/R CMD build --keep-empty-dirs --no-resave-data MetCirc StartedAt: 2025-11-12 16:40:34 -0500 (Wed, 12 Nov 2025) EndedAt: 2025-11-12 16:40:56 -0500 (Wed, 12 Nov 2025) EllapsedTime: 22.2 seconds RetCode: 0 Status: OK PackageFile: MetCirc_1.41.0.tar.gz PackageFileSize: 2.068 MiB