Package: MetCirc Version: 1.41.0 Command: rm -rf MetCirc.buildbin-libdir && mkdir MetCirc.buildbin-libdir && /Users/biocbuild/BBS/utils/build-universal.sh MetCirc_1.41.0.tar.gz /Library/Frameworks/R.framework/Resources/bin/R MetCirc.buildbin-libdir StartedAt: 2025-11-13 23:44:42 -0500 (Thu, 13 Nov 2025) EndedAt: 2025-11-13 23:44:49 -0500 (Thu, 13 Nov 2025) EllapsedTime: 7.2 seconds RetCode: 0 Status: OK PackageFile: MetCirc_1.41.0.tgz PackageFileSize: 1.926 MiB