Package: MesKit Version: 1.21.0 Command: /home/biocbuild/bbs-3.23-bioc/R/bin/R CMD build --keep-empty-dirs --no-resave-data MesKit StartedAt: 2025-11-13 18:30:02 -0500 (Thu, 13 Nov 2025) EndedAt: 2025-11-13 18:31:33 -0500 (Thu, 13 Nov 2025) EllapsedTime: 91.1 seconds RetCode: 0 Status: OK PackageFile: MesKit_1.21.0.tar.gz PackageFileSize: 3.781 MiB