Package: MesKit Version: 1.21.0 Command: /Library/Frameworks/R.framework/Resources/bin/R CMD INSTALL MesKit StartedAt: 2025-11-13 15:09:14 -0500 (Thu, 13 Nov 2025) EndedAt: 2025-11-13 15:09:23 -0500 (Thu, 13 Nov 2025) EllapsedTime: 8.9 seconds RetCode: 0 Status: OK