Package: MesKit Version: 1.21.0 Command: /Library/Frameworks/R.framework/Resources/bin/R CMD build --keep-empty-dirs --no-resave-data MesKit StartedAt: 2025-11-13 16:55:32 -0500 (Thu, 13 Nov 2025) EndedAt: 2025-11-13 16:56:10 -0500 (Thu, 13 Nov 2025) EllapsedTime: 38.5 seconds RetCode: 0 Status: OK PackageFile: MesKit_1.21.0.tar.gz PackageFileSize: 4.031 MiB