Package: MesKit Version: 1.21.0 Command: rm -rf MesKit.buildbin-libdir && mkdir MesKit.buildbin-libdir && /Users/biocbuild/BBS/utils/build-universal.sh MesKit_1.21.0.tar.gz /Library/Frameworks/R.framework/Resources/bin/R MesKit.buildbin-libdir StartedAt: 2025-11-13 23:44:24 -0500 (Thu, 13 Nov 2025) EndedAt: 2025-11-13 23:44:36 -0500 (Thu, 13 Nov 2025) EllapsedTime: 11.3 seconds RetCode: 0 Status: OK PackageFile: MesKit_1.21.0.tgz PackageFileSize: 4.16 MiB